BEGIN:VCALENDAR
VERSION:2.0
PRODID:-//The Cartell's Band - ECPv6.14.0//NONSGML v1.0//EN
CALSCALE:GREGORIAN
METHOD:PUBLISH
X-ORIGINAL-URL:https://thecartells.com
X-WR-CALDESC:Events for The Cartell's Band
REFRESH-INTERVAL;VALUE=DURATION:PT1H
X-Robots-Tag:noindex
X-PUBLISHED-TTL:PT1H
BEGIN:VTIMEZONE
TZID:UTC
BEGIN:STANDARD
TZOFFSETFROM:+0000
TZOFFSETTO:+0000
TZNAME:UTC
DTSTART:20260101T000000
END:STANDARD
END:VTIMEZONE
BEGIN:VEVENT
DTSTART;TZID=UTC:20260411T190000
DTEND;TZID=UTC:20260411T220000
DTSTAMP:20260422T101323
CREATED:20260224T121926Z
LAST-MODIFIED:20260224T121926Z
UID:4859-1775934000-1775944800@thecartells.com
SUMMARY:Bill's Seafood
DESCRIPTION:
URL:https://thecartells.com/calendar/bills-seafood-18/
LOCATION:Bill’s Seafood\, 548 Boston Post Rd\, Westbrook\, CT\, 06498
END:VEVENT
END:VCALENDAR